BEGIN:VCALENDAR
VERSION:2.0
PRODID:-//OmniMagnetCalendar//EN
BEGIN:VEVENT
DTSTAMP:20190625T195740Z
STATUS:CONFIRMED
UID:hcsantabarbara.clubs.harvard.edu285
DTSTART:20260322T180000Z
DTEND:20260322T200000Z
LOCATION:Arnhold Tennis Center, Intercollegiate Athletics,  Ocean Road., UCSB, Santa Barbara , CA, 93106, USA,
SUMMARY:Harvard Men's Tennis in Santa Barbara,  March 22, 2026
DESCRIPTION:
BEGIN:VALARM
TRIGGER:-PT15M
ACTION:DISPLAY
END:VALARM
TRANSP:OPAQUE
END:VEVENT
END:VCALENDAR
