BEGIN:VCALENDAR
VERSION:2.0
PRODID:-//OmniMagnetCalendar//EN
BEGIN:VEVENT
DTSTAMP:20190625T195740Z
STATUS:CONFIRMED
UID:hcsantabarbara.clubs.harvard.edu276
DTSTART:20251108T184500Z
DTEND:20251108T200000Z
LOCATION:Flor de Maiz, 29 East Cabrillo Blvd., Santa Barbara, c, 93101, USA,
SUMMARY:Harvard  Moves 2025
DESCRIPTION:
BEGIN:VALARM
TRIGGER:-PT15M
ACTION:DISPLAY
END:VALARM
TRANSP:OPAQUE
END:VEVENT
END:VCALENDAR
