BEGIN:VCALENDAR
VERSION:2.0
PRODID:-//OmniMagnetCalendar//EN
BEGIN:VEVENT
DTSTAMP:20190625T195740Z
STATUS:CONFIRMED
UID:hcsantabarbara.clubs.harvard.edu263
DTSTART:20241109T174500Z
DTEND:20241109T203000Z
LOCATION:Flor de Maiz, 29 E. Cabrillo Blvd., Santa Barbara, CA, 93101, USA,
SUMMARY:Reminder - Harvard Moves
DESCRIPTION:
BEGIN:VALARM
TRIGGER:-PT15M
ACTION:DISPLAY
END:VALARM
TRANSP:OPAQUE
END:VEVENT
END:VCALENDAR
