BEGIN:VCALENDAR
VERSION:2.0
PRODID:-//OmniMagnetCalendar//EN
BEGIN:VEVENT
DTSTAMP:20190625T195740Z
STATUS:CONFIRMED
UID:hcsantabarbara.clubs.harvard.edu262
DTSTART:20250223T000000Z
DTEND:20250223T020000Z
LOCATION:The Courthouse Distillery, 1114 State Street, Santa Barbara, CA, 93101, USA,
SUMMARY:HCSB Annual General Meeting 2025
DESCRIPTION:This HCSB Annual General Meeting (AGM) is free of charge  and open to all HCSB Members
BEGIN:VALARM
TRIGGER:-PT15M
ACTION:DISPLAY
END:VALARM
TRANSP:OPAQUE
END:VEVENT
END:VCALENDAR
