BEGIN:VCALENDAR
VERSION:2.0
PRODID:-//OmniMagnetCalendar//EN
BEGIN:VEVENT
DTSTAMP:20190625T195740Z
STATUS:CONFIRMED
UID:hcsantabarbara.clubs.harvard.edu256
DTSTART:20240314T010000Z
DTEND:20240314T030000Z
LOCATION:Villa Wine Bar, 618 Anacapa Str. #1867, Santa Barbara, CA, 93101, USA,
SUMMARY:Global Networking Night
DESCRIPTION:You’re invited to Global Networking Night on Wednesday, March 13!
BEGIN:VALARM
TRIGGER:-PT15M
ACTION:DISPLAY
END:VALARM
TRANSP:OPAQUE
END:VEVENT
END:VCALENDAR
