BEGIN:VCALENDAR
VERSION:2.0
PRODID:-//OmniMagnetCalendar//EN
BEGIN:VEVENT
DTSTAMP:20190625T195740Z
STATUS:CONFIRMED
UID:hcsantabarbara.clubs.harvard.edu255
DTSTART:20240229T190000Z
DTEND:20240229T200000Z
LOCATION:Art, Design & Architecture Museum, University of California, Santa Barbaa, 552 University Road, Santa Barbara, CA, o3106-7130, USA,
SUMMARY:Art Museum Tour at UCSB
DESCRIPTION:Enjoy a Tour of the UCSB  AD&A Museum on Thursday,  February 29th at 11am.
BEGIN:VALARM
TRIGGER:-PT15M
ACTION:DISPLAY
END:VALARM
TRANSP:OPAQUE
END:VEVENT
END:VCALENDAR
