BEGIN:VCALENDAR
VERSION:2.0
PRODID:-//OmniMagnetCalendar//EN
BEGIN:VEVENT
DTSTAMP:20190625T195740Z
STATUS:CONFIRMED
UID:hcsantabarbara.clubs.harvard.edu254
DTSTART:20231209T220000Z
DTEND:20231210T000000Z
LOCATION:Eleven 14 Crafthouse/Pizza Mitza, 1114 State Street, Santa Barbara, CA, USA,
SUMMARY:HCSB Annual General Meeting
DESCRIPTION:This HCSB Annual General Meeting (AGM) is free of charge and open to all HCSB members and their guests.
BEGIN:VALARM
TRIGGER:-PT15M
ACTION:DISPLAY
END:VALARM
TRANSP:OPAQUE
END:VEVENT
END:VCALENDAR
