BEGIN:VCALENDAR
VERSION:2.0
PRODID:-//OmniMagnetCalendar//EN
BEGIN:VEVENT
DTSTAMP:20190625T195740Z
STATUS:CONFIRMED
UID:hcsantabarbara.clubs.harvard.edu241
DTSTART:20230430T220000Z
DTEND:20230501T003000Z
LOCATION:Fe Bland Forum, Santa Barbara City College, 721 Cliff Drive, Santa Barbara, CA, 93109, USA,
SUMMARY:Special In-Person Presentation by Shaun Tomson, April 30 at 3pm
DESCRIPTION:
BEGIN:VALARM
TRIGGER:-PT15M
ACTION:DISPLAY
END:VALARM
TRANSP:OPAQUE
END:VEVENT
END:VCALENDAR
