BEGIN:VCALENDAR
VERSION:2.0
PRODID:-//OmniMagnetCalendar//EN
BEGIN:VEVENT
DTSTAMP:20190625T195740Z
STATUS:CONFIRMED
UID:hcsantabarbara.clubs.harvard.edu238
DTSTART:20221203T230000Z
DTEND:20221204T010000Z
LOCATION:Eleven 14, 1114 State St, Santa Barbara, CA, 93101, USA,
SUMMARY:HCSB Annual General Meeting 2022
DESCRIPTION:The HCSB Annual General Meeting (AGM) on December 3 from 3-5 PM is free of charge and open to all HCSB members and their guests.
BEGIN:VALARM
TRIGGER:-PT15M
ACTION:DISPLAY
END:VALARM
TRANSP:OPAQUE
END:VEVENT
END:VCALENDAR
