BEGIN:VCALENDAR
VERSION:2.0
PRODID:-//OmniMagnetCalendar//EN
BEGIN:VEVENT
DTSTAMP:20190625T195740Z
STATUS:CONFIRMED
UID:hcsantabarbara.clubs.harvard.edu237
DTSTART:20221117T220000Z
DTEND:20221117T230000Z
LOCATION:Zoom,
SUMMARY: Harvard Speakers Bureau: Professor Willy Shih
DESCRIPTION:.
BEGIN:VALARM
TRIGGER:-PT15M
ACTION:DISPLAY
END:VALARM
TRANSP:OPAQUE
END:VEVENT
END:VCALENDAR
