BEGIN:VCALENDAR
VERSION:2.0
PRODID:-//OmniMagnetCalendar//EN
BEGIN:VEVENT
DTSTAMP:20190625T195740Z
STATUS:CONFIRMED
UID:hcsantabarbara.clubs.harvard.edu232
DTSTART:20221119T170000Z
DTEND:20221119T200000Z
LOCATION:Dargan's Irish Pub & Restaurant, 18 E Ortega St, Santa Barbara, CA, 93101, USA,
SUMMARY:Harvard / Yale Football Game
DESCRIPTION:Join local Harvard and Yale Alumni at Dargan's Pub to watch the annual football match between the Harvard Crimson and the Yale Bulldogs.
BEGIN:VALARM
TRIGGER:-PT15M
ACTION:DISPLAY
END:VALARM
TRANSP:OPAQUE
END:VEVENT
END:VCALENDAR
