BEGIN:VCALENDAR
VERSION:2.0
PRODID:-//OmniMagnetCalendar//EN
BEGIN:VEVENT
DTSTAMP:20190625T195740Z
STATUS:CONFIRMED
UID:hcsantabarbara.clubs.harvard.edu226
DTSTART:20220511T220000Z
DTEND:20220511T230000Z
LOCATION:Virtual,
SUMMARY:Harvard Speakers Bureau: Professor Juliette Kayyem
DESCRIPTION:Please join us to hear Harvard Professor Juliette Kayyem
BEGIN:VALARM
TRIGGER:-PT15M
ACTION:DISPLAY
END:VALARM
TRANSP:OPAQUE
END:VEVENT
END:VCALENDAR
