BEGIN:VCALENDAR
VERSION:2.0
PRODID:-//OmniMagnetCalendar//EN
BEGIN:VEVENT
DTSTAMP:20190625T195740Z
STATUS:CONFIRMED
UID:hcsantabarbara.clubs.harvard.edu224
DTSTART:20220528T020000Z
DTEND:20220528T030000Z
LOCATION:Presidio Chapel, 123 E. Canon Perdido Street, Santa Barbara, CA, 93101, USA,
SUMMARY:The Harvard Krokodiloes Perform on May 27th in Santa Barbara!
DESCRIPTION:The world-renowned a cappella singers perform Friday, May 27th, 2022 at 7pm.
BEGIN:VALARM
TRIGGER:-PT15M
ACTION:DISPLAY
END:VALARM
TRANSP:OPAQUE
END:VEVENT
END:VCALENDAR
