BEGIN:VCALENDAR
VERSION:2.0
PRODID:-//OmniMagnetCalendar//EN
BEGIN:VEVENT
DTSTAMP:20190625T195740Z
STATUS:CONFIRMED
UID:hcsantabarbara.clubs.harvard.edu215
DTSTART:20211106T010000Z
DTEND:20211106T020000Z
LOCATION:Virtual,
SUMMARY:Cocktails and Santa Barbara History with Clinton Hollister
DESCRIPTION:Join us for an interesting, delightful evening of Santa Barbara History and Vermouth Tasting on Friday, November 5,  6-7p.m. PDT, via Zoom.
BEGIN:VALARM
TRIGGER:-PT15M
ACTION:DISPLAY
END:VALARM
TRANSP:OPAQUE
END:VEVENT
END:VCALENDAR
