BEGIN:VCALENDAR
VERSION:2.0
PRODID:-//OmniMagnetCalendar//EN
BEGIN:VEVENT
DTSTAMP:20190625T195740Z
STATUS:CONFIRMED
UID:hcsantabarbara.clubs.harvard.edu204
DTSTART:20210311T010000Z
DTEND:20210311T023000Z
LOCATION:Zoom,
SUMMARY:Harvard Speakers Bureau: Professor Dan Shapiro on “Negotiating the Nonnegotiable”
DESCRIPTION:Please join us to hear Harvard professor Dan Shapiro discuss his timely book, Negotiating the Nonnegotiable: How to Resolve Your Most Emotionally Charged Conflicts, on March 10, 5pm PST, via Zoom.
BEGIN:VALARM
TRIGGER:-PT15M
ACTION:DISPLAY
END:VALARM
TRANSP:OPAQUE
END:VEVENT
END:VCALENDAR
