BEGIN:VCALENDAR
VERSION:2.0
PRODID:-//OmniMagnetCalendar//EN
BEGIN:VEVENT
DTSTAMP:20190625T195740Z
STATUS:CONFIRMED
UID:hcsantabarbara.clubs.harvard.edu203
DTSTART:20210111T010000Z
DTEND:20210111T023000Z
LOCATION:Zoom,
SUMMARY:Harvard Speakers Bureau: Professor Martha Schwartz Discusses Sustainable Cities
DESCRIPTION:Dive into a discussion with Martha Schwartz, Professor in Practice of Landscape Architecture, on Sunday, January 10, 5:00 p.m., via Zoom.
BEGIN:VALARM
TRIGGER:-PT15M
ACTION:DISPLAY
END:VALARM
TRANSP:OPAQUE
END:VEVENT
END:VCALENDAR
