BEGIN:VCALENDAR
VERSION:2.0
PRODID:-//OmniMagnetCalendar//EN
BEGIN:VEVENT
DTSTAMP:20190625T195740Z
STATUS:CONFIRMED
UID:hcsantabarbara.clubs.harvard.edu200
DTSTART:20200710T000000Z
DTEND:20200710T010000Z
LOCATION:Zoom Meeting,
SUMMARY:Reflections on the Challenges Facing Santa Barbara in the time of Covid-19
DESCRIPTION:Join the Harvard Club of Santa Barbara in a virtual presentation by Santa Barbara Councilmember and Harvard alumna Meagan Harmon on Thursday, July 9.
BEGIN:VALARM
TRIGGER:-PT15M
ACTION:DISPLAY
END:VALARM
TRANSP:OPAQUE
END:VEVENT
END:VCALENDAR
