BEGIN:VCALENDAR
VERSION:2.0
PRODID:-//OmniMagnetCalendar//EN
BEGIN:VEVENT
DTSTAMP:20190625T195740Z
STATUS:CONFIRMED
UID:hcsantabarbara.clubs.harvard.edu199
DTSTART:20200222T220000Z
DTEND:20200223T000000Z
LOCATION:Home of Aristides Demetrios, Montecito, CA,
SUMMARY:Visit to the Studio of Aristides Demetrios
DESCRIPTION:Join the Harvard Club of Santa Barbara on a tour of the Studio of Aristides Demetrios in Montecito on Saturday, February 22, 2020.
BEGIN:VALARM
TRIGGER:-PT15M
ACTION:DISPLAY
END:VALARM
TRANSP:OPAQUE
END:VEVENT
END:VCALENDAR
