BEGIN:VCALENDAR
VERSION:2.0
PRODID:-//OmniMagnetCalendar//EN
BEGIN:VEVENT
DTSTAMP:20190625T195740Z
STATUS:CONFIRMED
UID:hcsantabarbara.clubs.harvard.edu198
DTSTART:20191213T013000Z
DTEND:20191213T030000Z
LOCATION:The Santa Barbara Club, 1105 Chapala St, Santa Barbara, CA, 93101,
SUMMARY:HCSB Annual General Meeting
DESCRIPTION:Please join us on Thursday, December 12, 2019, from 5:30 to 7:00 p.m. at the Santa Barbara Club, 1105 Chapala St, Santa Barbara.
BEGIN:VALARM
TRIGGER:-PT15M
ACTION:DISPLAY
END:VALARM
TRANSP:OPAQUE
END:VEVENT
END:VCALENDAR
