BEGIN:VCALENDAR
VERSION:2.0
PRODID:-//OmniMagnetCalendar//EN
BEGIN:VEVENT
DTSTAMP:20190625T195740Z
STATUS:CONFIRMED
UID:hcsantabarbara.clubs.harvard.edu196
DTSTART:20191006T230000Z
DTEND:20191007T020000Z
LOCATION:Home of HCSB President W. Elliot Brownlee, 133 Butterfly Lane, Montecito, CA, 93108,
SUMMARY:President's Fall Reception
DESCRIPTION:A casual afternoon at the home of HCSB President W. Elliot Brownlee
BEGIN:VALARM
TRIGGER:-PT15M
ACTION:DISPLAY
END:VALARM
TRANSP:OPAQUE
END:VEVENT
END:VCALENDAR
