BEGIN:VCALENDAR
VERSION:2.0
PRODID:-//OmniMagnetCalendar//EN
BEGIN:VEVENT
DTSTAMP:20190625T195740Z
STATUS:CONFIRMED
UID:hcsantabarbara.clubs.harvard.edu194
DTSTART:20190824T160000Z
DTEND:20190824T183000Z
LOCATION:Canalino Elementary School, 1480 Linden Ave, Carpinteria, CA,
SUMMARY:Community Service Series - Carpinteria Children's Project
DESCRIPTION:Show your volunteer spirit and meet other like-minded alumni as we help with some needed clean-up of the pre-school at Canalino Elementary School on Saturday, Aug. 24, 9:00-11:30 a.m.
BEGIN:VALARM
TRIGGER:-PT15M
ACTION:DISPLAY
END:VALARM
TRANSP:OPAQUE
END:VEVENT
END:VCALENDAR
