BEGIN:VCALENDAR
VERSION:2.0
PRODID:-//OmniMagnetCalendar//EN
BEGIN:VEVENT
DTSTAMP:20190625T195740Z
STATUS:CONFIRMED
UID:hcsantabarbara.clubs.harvard.edu193
DTSTART:20190913T003000Z
DTEND:20190913T023000Z
LOCATION:Alhecama Theatre, 215 E Canon Perdido St, Santa Barbara, CA,
SUMMARY:Lecture and Reception with UCSB Professor Ken Hiltner
DESCRIPTION:Exploring Climate Change & Culture Shift
BEGIN:VALARM
TRIGGER:-PT15M
ACTION:DISPLAY
END:VALARM
TRANSP:OPAQUE
END:VEVENT
END:VCALENDAR
