BEGIN:VCALENDAR
VERSION:2.0
PRODID:-//OmniMagnetCalendar//EN
BEGIN:VEVENT
DTSTAMP:20190625T195740Z
STATUS:CONFIRMED
UID:hcsantabarbara.clubs.harvard.edu191
DTSTART:20190505T100000Z
DTEND:20190505T133000Z
LOCATION:Arroyo Hondo Preserve,
SUMMARY:Outing to Arroyo Hondo Preserve
DESCRIPTION:Join fellow Harvard alums for a tour and lunch at the majestic Arroyo Hondo Preserve on the Gaviota Coast.
BEGIN:VALARM
TRIGGER:-PT15M
ACTION:DISPLAY
END:VALARM
TRANSP:OPAQUE
END:VEVENT
END:VCALENDAR
