BEGIN:VCALENDAR
VERSION:2.0
PRODID:-//OmniMagnetCalendar//EN
BEGIN:VEVENT
DTSTAMP:20190625T195740Z
STATUS:CONFIRMED
UID:hcsantabarbara.clubs.harvard.edu190
DTSTART:20190404T173000Z
DTEND:20190404T193000Z
LOCATION:Brownstein Hyatt Farber Schreck, LLP, 1021 Anacapa Street, 2nd Floor, Santa Barbara, CA,
SUMMARY:Lecture and reception with Harvard Professor Daniel G. Nocera
DESCRIPTION:Join the Harvard Club of Santa Barbara for this Harvard-sponsored lecture on Thursday, April 4, 2019.
BEGIN:VALARM
TRIGGER:-PT15M
ACTION:DISPLAY
END:VALARM
TRANSP:OPAQUE
END:VEVENT
END:VCALENDAR
