BEGIN:VCALENDAR
VERSION:2.0
PRODID:-//OmniMagnetCalendar//EN
BEGIN:VEVENT
DTSTAMP:20190625T195740Z
STATUS:CONFIRMED
UID:hcsantabarbara.clubs.harvard.edu188
DTSTART:20190323T100000Z
DTEND:20190323T130000Z
LOCATION:La Casa de Maria Retreat & Conference Center, 888 San Ysidro Lane, Santa Barbara, CA,
SUMMARY:Community Service: Orange harvest for Foodbank
DESCRIPTION:Show your volunteer spirit and meet other like-minded alumni as we help two local non-profits, in this second event of our Community Service Series, on Saturday, March 23, 10 am - 1 pm.
BEGIN:VALARM
TRIGGER:-PT15M
ACTION:DISPLAY
END:VALARM
TRANSP:OPAQUE
END:VEVENT
END:VCALENDAR
