BEGIN:VCALENDAR
VERSION:2.0
PRODID:-//OmniMagnetCalendar//EN
BEGIN:VEVENT
DTSTAMP:20190625T195740Z
STATUS:CONFIRMED
UID:hcsantabarbara.clubs.harvard.edu187
DTSTART:20190227T180000Z
DTEND:20190227T200000Z
LOCATION:Brownstein Conference Room of Brownstein Hyatt Farber Schreck, LLP, 1021 Anacapa Street, 2nd Floor, Santa Barbara, CA,
SUMMARY:Talk/Reception with David Bisno, M.D., the founder of VISTAS in Santa Barbara
DESCRIPTION:Join us on Wednesday, February 27, to hear Dr. Bisno talk about his passion for lifelong learning.
BEGIN:VALARM
TRIGGER:-PT15M
ACTION:DISPLAY
END:VALARM
TRANSP:OPAQUE
END:VEVENT
END:VCALENDAR
