BEGIN:VCALENDAR
VERSION:2.0
PRODID:-//OmniMagnetCalendar//EN
BEGIN:VEVENT
DTSTAMP:20190625T195740Z
STATUS:CONFIRMED
UID:hcsantabarbara.clubs.harvard.edu185
DTSTART:20190109T190000Z
DTEND:20190109T210000Z
LOCATION:Dargan's Irish Pub & Restaurant, 18 E Ortega St, Santa Barbara, CA, 93101,
SUMMARY:Global Networking Night
DESCRIPTION:Join other Harvard alumni on Jan. 9 for a casual evening of business networking.
BEGIN:VALARM
TRIGGER:-PT15M
ACTION:DISPLAY
END:VALARM
TRANSP:OPAQUE
END:VEVENT
END:VCALENDAR
