BEGIN:VCALENDAR
VERSION:2.0
PRODID:-//OmniMagnetCalendar//EN
BEGIN:VEVENT
DTSTAMP:20190625T195740Z
STATUS:CONFIRMED
UID:hcsantabarbara.clubs.harvard.edu182
DTSTART:20181117T100000Z
DTEND:20181117T130000Z
LOCATION:Dargan's Irish Pub & Restaurant, 18 E Ortega St, Santa Barbara, CA, 93101,
SUMMARY:The Game!
DESCRIPTION:Join local Harvard and Yale alumni at Dargan's Pub to watch the annual football match between the Harvard Crimson and the Yale Bulldogs.
BEGIN:VALARM
TRIGGER:-PT15M
ACTION:DISPLAY
END:VALARM
TRANSP:OPAQUE
END:VEVENT
END:VCALENDAR
