BEGIN:VCALENDAR
VERSION:2.0
PRODID:-//OmniMagnetCalendar//EN
BEGIN:VEVENT
DTSTAMP:20190625T195740Z
STATUS:CONFIRMED
UID:hcsantabarbara.clubs.harvard.edu181
DTSTART:20181030T173000Z
DTEND:20181030T193000Z
LOCATION:The Santa Barbara Club, 1105 Chapala St, Santa Barbara, CA,
SUMMARY:Lecture and reception with Harvard Professor Joyce Chaplin
DESCRIPTION:Join the Harvard Club of Santa Barbara for a Harvard-sponsored lecture on Tuesday, Oct 30, 2018.
BEGIN:VALARM
TRIGGER:-PT15M
ACTION:DISPLAY
END:VALARM
TRANSP:OPAQUE
END:VEVENT
END:VCALENDAR
