BEGIN:VCALENDAR
VERSION:2.0
PRODID:-//OmniMagnetCalendar//EN
BEGIN:VEVENT
DTSTAMP:20190625T195740Z
STATUS:CONFIRMED
UID:hcsantabarbara.clubs.harvard.edu179
DTSTART:20181006T100000Z
DTEND:20181006T120000Z
LOCATION:Carpinteria Children's Project, 5201 8th St, Carpinteria, CA,
SUMMARY:Launch of Community Service Series
DESCRIPTION:Show your volunteer spirit and meet other like-minded alumni as we launch our Community Service Series, by coming to help with some needed clean-up of the Carpinteria Children's Project on Saturday, Oct. 6, 10-noon.
BEGIN:VALARM
TRIGGER:-PT15M
ACTION:DISPLAY
END:VALARM
TRANSP:OPAQUE
END:VEVENT
END:VCALENDAR
