BEGIN:VCALENDAR
VERSION:2.0
PRODID:-//OmniMagnetCalendar//EN
BEGIN:VEVENT
DTSTAMP:20190625T195740Z
STATUS:CONFIRMED
UID:hcsantabarbara.clubs.harvard.edu176
DTSTART:20180308T190000Z
DTEND:20180308T210000Z
LOCATION:Brownstein Hyatt Farber Schreck, LLP, 1020 State St, Santa Barbara, CA,
SUMMARY:Lecture on 3/8/2018 - Professor Anne H. Charity Hudley
DESCRIPTION:UC Santa Barbara Professor Anne H. Charity Hudley will speak on "The Power of a Single Voice" in this free event open to all Harvard alumni/ae and friends.
BEGIN:VALARM
TRIGGER:-PT15M
ACTION:DISPLAY
END:VALARM
TRANSP:OPAQUE
END:VEVENT
END:VCALENDAR
