BEGIN:VCALENDAR
VERSION:2.0
PRODID:-//OmniMagnetCalendar//EN
BEGIN:VEVENT
DTSTAMP:20190625T195740Z
STATUS:CONFIRMED
UID:hcsantabarbara.clubs.harvard.edu170
DTSTART:20171115T180000Z
DTEND:20171115T200000Z
LOCATION:Board Room of Brownstein Hyatt Farber Schreck, LLP, 1020 State Street, Santa Barbara, CA,
SUMMARY:Talk/Reception with Ron Gallo, CEO and President, Santa Barbara Foundation
DESCRIPTION:Join us on Wednesday, November 15, to hear Dr. Ron Gallo discuss his three decades in philanthropy and nonprofit leadership as part of the Harvard Careers Series.
BEGIN:VALARM
TRIGGER:-PT15M
ACTION:DISPLAY
END:VALARM
TRANSP:OPAQUE
END:VEVENT
END:VCALENDAR
