BEGIN:VCALENDAR
VERSION:2.0
PRODID:-//OmniMagnetCalendar//EN
BEGIN:VEVENT
DTSTAMP:20190625T195740Z
STATUS:CONFIRMED
UID:hcsantabarbara.clubs.harvard.edu166
DTSTART:20170729T183000Z
DTEND:20170729T220000Z
LOCATION:Cuesta College Cultural and Performing Arts Center, San Luis Obispo, CA,
SUMMARY:Harvard reception at Festival Mozaic in SLO
DESCRIPTION:Join fellow Harvard alumni/ae in SLO for a special reception in association with the concert "Metamorphosis and Reformation".
BEGIN:VALARM
TRIGGER:-PT15M
ACTION:DISPLAY
END:VALARM
TRANSP:OPAQUE
END:VEVENT
END:VCALENDAR
