BEGIN:VCALENDAR
VERSION:2.0
PRODID:-//OmniMagnetCalendar//EN
BEGIN:VEVENT
DTSTAMP:20190625T195740Z
STATUS:CONFIRMED
UID:hcsantabarbara.clubs.harvard.edu161
DTSTART:20170320T090000Z
DTEND:20170320T110000Z
LOCATION:The Santa Barbara Club, 1105 Chapala St, Santa Barbara, CA, 93101,
SUMMARY:Breakfast with Harvard Professor Benjamin M. Friedman
DESCRIPTION:Enjoy breakfast at the Santa Barbara Club with a leading expert on the current condition of the American economy, Monday, March 20, 9:00-11:00 a.m.
BEGIN:VALARM
TRIGGER:-PT15M
ACTION:DISPLAY
END:VALARM
TRANSP:OPAQUE
END:VEVENT
END:VCALENDAR
