BEGIN:VCALENDAR
VERSION:2.0
PRODID:-//OmniMagnetCalendar//EN
BEGIN:VEVENT
DTSTAMP:20190625T195740Z
STATUS:CONFIRMED
UID:hcsantabarbara.clubs.harvard.edu156
DTSTART:20161009T150000Z
DTEND:20161009T180000Z
LOCATION:Home of Albert and Barbara Lindemann, Tunnel Rd, Santa Barbara, CA, 93105,
SUMMARY:President's Reception
DESCRIPTION:A casual afternoon at the home of HCSB President Albert S. Lindemann
BEGIN:VALARM
TRIGGER:-PT15M
ACTION:DISPLAY
END:VALARM
TRANSP:OPAQUE
END:VEVENT
END:VCALENDAR
