BEGIN:VCALENDAR
VERSION:2.0
PRODID:-//OmniMagnetCalendar//EN
BEGIN:VEVENT
DTSTAMP:20190625T195740Z
STATUS:CONFIRMED
UID:hcsantabarbara.clubs.harvard.edu153
DTSTART:20160523T173000Z
DTEND:20160523T190000Z
LOCATION:Antioch University, 602 Anacapa St, Santa Barbara, CA, 93101, USA,
SUMMARY:Lecture/Reception with Antioch President Nancy Leffert (CANCELLED)
DESCRIPTION:Antioch University invites Harvard alumni to a lecture entitled " Higher Education in 2016: A Whole New Ballgame".
BEGIN:VALARM
TRIGGER:-PT15M
ACTION:DISPLAY
END:VALARM
TRANSP:OPAQUE
END:VEVENT
END:VCALENDAR
