BEGIN:VCALENDAR
VERSION:2.0
PRODID:-//OmniMagnetCalendar//EN
BEGIN:VEVENT
DTSTAMP:20190625T195740Z
STATUS:CONFIRMED
UID:hcsantabarbara.clubs.harvard.edu152
DTSTART:20160419T173000Z
DTEND:20160419T200000Z
LOCATION:Cabrillo Arts Center, 1118 E Cabrillo Blvd, Santa Barbara, CA, 93103, USA,
SUMMARY:Stanford Club Event: Lecture/Reception with Prof. M. Kate Bundorf
DESCRIPTION:Join members of the Stanford Club of Santa Barbara for a lecture entitled "The Affordable Care Act: Where Are We Now?"
BEGIN:VALARM
TRIGGER:-PT15M
ACTION:DISPLAY
END:VALARM
TRANSP:OPAQUE
END:VEVENT
END:VCALENDAR
