BEGIN:VCALENDAR
VERSION:2.0
PRODID:-//OmniMagnetCalendar//EN
BEGIN:VEVENT
DTSTAMP:20190625T195740Z
STATUS:CONFIRMED
UID:hcsantabarbara.clubs.harvard.edu151
DTSTART:20160430T160000Z
DTEND:20160430T180000Z
LOCATION:Villa Wine Bar and Kitchen, 618 Anacapa St, Santa Barbara, CA,
SUMMARY:Wine Tasting at Villa Wine Bar and Kitchen
DESCRIPTION:Join us as we sample wines and appetizers at Villa Wine Bar and Kitchen, in an event organized jointly with the Harvard Club of Southern California
BEGIN:VALARM
TRIGGER:-PT15M
ACTION:DISPLAY
END:VALARM
TRANSP:OPAQUE
END:VEVENT
END:VCALENDAR
