BEGIN:VCALENDAR
VERSION:2.0
PRODID:-//OmniMagnetCalendar//EN
BEGIN:VEVENT
DTSTAMP:20190625T195740Z
STATUS:CONFIRMED
UID:hcsantabarbara.clubs.harvard.edu150
DTSTART:20160410T180000Z
DTEND:20160410T200000Z
LOCATION:Home of Cynthie Tin Oo and Dan Fishbein,
SUMMARY:Wine Tasting with Dan Fishbein
DESCRIPTION:Join us at the home of HCSB member Cynthie Tin Oo and her husband Dan Fishbein, to sample some of Dan's award-winning wines.
BEGIN:VALARM
TRIGGER:-PT15M
ACTION:DISPLAY
END:VALARM
TRANSP:OPAQUE
END:VEVENT
END:VCALENDAR
