BEGIN:VCALENDAR
VERSION:2.0
PRODID:-//OmniMagnetCalendar//EN
BEGIN:VEVENT
DTSTAMP:20190625T195740Z
STATUS:CONFIRMED
UID:hcsantabarbara.clubs.harvard.edu149
DTSTART:20160313T173000Z
DTEND:20160313T200000Z
LOCATION:University Club of Santa Barbara, 1332 Santa Barbara St., Santa Barbara, CA,
SUMMARY:Lecture/dinner on 3/13 - Prof. Robert Murowchick
DESCRIPTION:Dr. Murowchick will speak on "Making the Past Serve the Present: Politics, Nationalism, and Archaeology in China" at the University Club in Santa Barbara, with dinner included.
BEGIN:VALARM
TRIGGER:-PT15M
ACTION:DISPLAY
END:VALARM
TRANSP:OPAQUE
END:VEVENT
END:VCALENDAR
