BEGIN:VCALENDAR
VERSION:2.0
PRODID:-//OmniMagnetCalendar//EN
BEGIN:VEVENT
DTSTAMP:20190625T195740Z
STATUS:CONFIRMED
UID:hcsantabarbara.clubs.harvard.edu148
DTSTART:20160217T180000Z
DTEND:20160217T200000Z
LOCATION:Alhecama Theatre, 914 Santa Barbara St, Santa Barbara, CA, 93101,
SUMMARY:Lecture/reception on 2/17 - Prof. Derek Katz
DESCRIPTION:UCSB Professor Derek Katz will speak on "Shostakovich: Music & Politics in the Soviet Union" in this free event open to all Harvard alumni and friends.
BEGIN:VALARM
TRIGGER:-PT15M
ACTION:DISPLAY
END:VALARM
TRANSP:OPAQUE
END:VEVENT
END:VCALENDAR
