BEGIN:VCALENDAR
VERSION:2.0
PRODID:-//OmniMagnetCalendar//EN
BEGIN:VEVENT
DTSTAMP:20190625T195740Z
STATUS:CONFIRMED
UID:hcsantabarbara.clubs.harvard.edu138
DTSTART:20150429T140000Z
DTEND:20150429T160000Z
LOCATION:SB Museum of Art, 1130 State Street, Santa Barbara, CA, 93101,
SUMMARY:Special Exhibition at SB Museum of Art
DESCRIPTION:Join us for a docent-led tour of the exhibit "Botticelli,Titian & Beyond" at the Santa Barbara Museum of Art, April 29, 2:00 p.m.
BEGIN:VALARM
TRIGGER:-PT15M
ACTION:DISPLAY
END:VALARM
TRANSP:OPAQUE
END:VEVENT
END:VCALENDAR
