BEGIN:VCALENDAR
VERSION:2.0
PRODID:-//OmniMagnetCalendar//EN
BEGIN:VEVENT
DTSTAMP:20190625T195740Z
STATUS:CONFIRMED
UID:hcsantabarbara.clubs.harvard.edu137
DTSTART:20150306T122000Z
DTEND:20150306T143000Z
LOCATION:SB Courthouse, 1100 Anacapa St., Santa Barbara, CA, 93101,
SUMMARY:Tour of SB Courthouse Clock Gallery
DESCRIPTION:Join us for a tour of the Bisno-Schall Clock Gallery in the Santa Barbara Courhouse, followed by lunch at nearby Petros Restaurant
BEGIN:VALARM
TRIGGER:-PT15M
ACTION:DISPLAY
END:VALARM
TRANSP:OPAQUE
END:VEVENT
END:VCALENDAR
