BEGIN:VCALENDAR
VERSION:2.0
PRODID:-//OmniMagnetCalendar//EN
BEGIN:VEVENT
DTSTAMP:20190625T195740Z
STATUS:CONFIRMED
UID:hcsantabarbara.clubs.harvard.edu133
DTSTART:20141005T150000Z
DTEND:20141005T170000Z
LOCATION:Trinity Episcopal Church, 1500 State St., Santa Barbara, CA, 93101, USA,
SUMMARY:The Adelfos Ensemble
DESCRIPTION:A Santa Barbara a-cappella group, performing a tribute to 20th-century English composer John Taverner
BEGIN:VALARM
TRIGGER:-PT15M
ACTION:DISPLAY
END:VALARM
TRANSP:OPAQUE
END:VEVENT
END:VCALENDAR
