BEGIN:VCALENDAR
VERSION:2.0
PRODID:-//OmniMagnetCalendar//EN
BEGIN:VEVENT
DTSTAMP:20190625T195740Z
STATUS:CONFIRMED
UID:hcsantabarbara.clubs.harvard.edu131
DTSTART:20140628T090000Z
DTEND:20140628T110000Z
LOCATION:Santa Barbara Club, 1105 Chapala St., Santa Barbara, CA, 93101, USA,
SUMMARY:Brunch with Harvard Professor Laurence Tribe
DESCRIPTION:Enjoy brunch at the elegant Santa Barbara Club with a leading expert on constitutional law, Saturday, June 28, 9:00-11:00 a.m.
BEGIN:VALARM
TRIGGER:-PT15M
ACTION:DISPLAY
END:VALARM
TRANSP:OPAQUE
END:VEVENT
END:VCALENDAR
