BEGIN:VCALENDAR
VERSION:2.0
PRODID:-//OmniMagnetCalendar//EN
BEGIN:VEVENT
DTSTAMP:20190625T195740Z
STATUS:CONFIRMED
UID:hcsantabarbara.clubs.harvard.edu130
DTSTART:20140522T153000Z
DTEND:20140515T180000Z
LOCATION:Home of Albert and Barbara Lindemann,
SUMMARY:An afternoon at our new president's home
DESCRIPTION:A casual family-friendly get-together at the home of our new president Albert Lindemann.
BEGIN:VALARM
TRIGGER:-PT15M
ACTION:DISPLAY
END:VALARM
TRANSP:OPAQUE
END:VEVENT
END:VCALENDAR
