BEGIN:VCALENDAR
VERSION:2.0
PRODID:-//OmniMagnetCalendar//EN
BEGIN:VEVENT
DTSTAMP:20190625T195740Z
STATUS:CONFIRMED
UID:hcsantabarbara.clubs.harvard.edu128
DTSTART:20140403T173000Z
DTEND:20140403T203000Z
LOCATION:Harry's Plaza Cafe, 	3313 State St., Santa Barbara, CA, 93105, USA,
SUMMARY:April 3 Dinner/Lecture - Dr. Daniel Henderson
DESCRIPTION:Harvard Lecturer Daniel Henderson will speak to us on: What Jazz Musicians Do When They "Jazz Up" the Great American Songbook.  Harry's Plaza Cafe, Thursday, April 3, 5:30-8:30 p.m., $45.
BEGIN:VALARM
TRIGGER:-PT15M
ACTION:DISPLAY
END:VALARM
TRANSP:OPAQUE
END:VEVENT
END:VCALENDAR
