BEGIN:VCALENDAR
VERSION:2.0
PRODID:-//OmniMagnetCalendar//EN
BEGIN:VEVENT
DTSTAMP:20190625T195740Z
STATUS:CONFIRMED
UID:hcsantabarbara.clubs.harvard.edu127
DTSTART:20140318T170000Z
DTEND:20140318T193000Z
LOCATION:Cabrillo Pavilion, 1118 E. Cabrillo Blvd., Santa Barbara, CA, 93103, USA,
SUMMARY:Lecture by Nobel Laureate Alvin Roth
DESCRIPTION:
BEGIN:VALARM
TRIGGER:-PT15M
ACTION:DISPLAY
END:VALARM
TRANSP:OPAQUE
END:VEVENT
END:VCALENDAR
