BEGIN:VCALENDAR
VERSION:2.0
PRODID:-//OmniMagnetCalendar//EN
BEGIN:VEVENT
DTSTAMP:20190625T195740Z
STATUS:CONFIRMED
UID:hcsantabarbara.clubs.harvard.edu125
DTSTART:20140114T180000Z
DTEND:20140114T200000Z
LOCATION:Hill-Carrillo Adobe, 11 East Carrillo Street, Santa Barbara, CA, 93101,
SUMMARY:HCSB Annual General Meeting
DESCRIPTION:
BEGIN:VALARM
TRIGGER:-PT15M
ACTION:DISPLAY
END:VALARM
TRANSP:OPAQUE
END:VEVENT
END:VCALENDAR
