BEGIN:VCALENDAR
VERSION:2.0
PRODID:-//OmniMagnetCalendar//EN
BEGIN:VEVENT
DTSTAMP:20190625T195740Z
STATUS:CONFIRMED
UID:hcsantabarbara.clubs.harvard.edu111
DTSTART:20130222T183000Z
DTEND:20130222T213000Z
LOCATION:Arch Rock Fish, 608 Anacapa Street, Santa Barbara, CA, 93101,
SUMMARY:February 22 dinner/lecture - Dr. Andrew Berry
DESCRIPTION:Dr. Andrew Berry, Lecturer on Organismic & Evolutionary Biology at Harvard, will speak to us on:                                           What Darwin Didn't Know: Evolution since The Origin.   Location: Arch Rock Fish Time: 5:30 - 8:30 p.m. Cost: $55
BEGIN:VALARM
TRIGGER:-PT15M
ACTION:DISPLAY
END:VALARM
TRANSP:OPAQUE
END:VEVENT
END:VCALENDAR
